Workbook

Sheet DATOS
A1: BASE DE DATOS GENERALES PARA PROYECTO 2: Antiguo Cuscatlán
A3: El Proyecto:
A5: Implementación de un RAPS: Redes Ambientales Peatonales Seguras
A7: Capacidad mensual de viajes diarios de bicicletas | D7: =+B10 -> 143616 | E7: viajes mes
A8: Promedio viajes diarios | B8: =+A66*2 -> 6528 | C8: viajes
A9: días por mes | B9: 22
A10: total viajes por mes | B10: =+B9*B8 -> 143616
A12: Porcentaje anual estimado de utilización
A14: Año | B14: Porcentaje
A15: 1 | B15: 0.7
A16: 2 | B16: 0.75
A17: 3 | B17: 0.8
A18: 4 | B18: 0.9
A19: 5 al 20 | B19: 1
A21: Costo del viaje | D21: 0.4 | E21: Se considera un mercado sin inflación
A23: Las inversiones se realizarán todas en el año 0, así:
A25: INVERSION | B25: MONTO
A26: Compra de bicicletas | B26: =+F28 -> 120000 | D26: Compra de bicicletas | F26: 150 | G26: Racks para bicicletas | I26: 10
A27: Estacionamientos bicicletas | B27: =+I28 -> 20000 | D27: Costo de bicicleta | F27: 800 | G27: Costo por Rack | I27: 2000
A28: Infraestructura | B28: =+B60 -> 905899 | D28: Inversión en bicicletas | F28: =+F27*F26 -> 120000 | G28: Inversión en Racks | I28: =+I27*I26 -> 20000
A29: INVERSION TOTAL | B29: =SUM(B26:B28) -> 1045899
A31: Para realizar la inversión, los accionistas aportarán un 30% del total de la inversión y solicitarán un préstamo
A32: por el restante 70% a 12 años plazo y a un interés del 10%
A34: Las bicicletas se deprecia en 5 años y los estacionamientos y la infraestrucutra en 20 años. Ambos de forma lineal
A35: El valor de rescate esperado al final de los 20 años es el 20% del valor de la infraestructura
A37: Los costos se han estimado así:
A39: Costo de mantenimiento | B39: 0.05 | C39: =+B39/D21 -> 0.125
A40: Gastos de operación | B40: 0.08 | C40: =+B40/D21 -> 0.2
A41: costo de administración | B41: 0.08 | C41: =+B41/D21 -> 0.2 | D41: =+C41+C40+C39 -> 0.525
A42: TOTAL | B42: =SUM(B39:B41) -> 0.21 | C42: =+B42/D21 -> 0.525
A43: Los impuestos a pagar por utilidades es del | C43: 0.3
A45: INFRAESTRUCTURA
A46: Cruces en intersecciones | B46: 25 | C46: Al sur de la Carretera Panamericana
B47: 9 | C47: Al norte de la Carretera Panamericana
A48: TOTAL | B48: =+B47+B46 -> 34
A49: Costo por cruce | B49: 17266
A50: COSTO TOTAL | B50: =+B49*B48 -> 587044
A52: Conexiones norte - sur
A53: Carreterra Panamericana | B53: 2 | C53: 1 en Plaza el Soldado - Basílica de Guadalupe; 1 en Multiplaza-Alcaldía antiguo Cuscatlan
A54: Costo por conexión | C54: Multiplaza | D54: 97530
...

Sheet EVALUACION
A1: EVALUACION FINANCIERA RAPS
A3: Alquiler mensual | B3: =+DATOS!D7 -> 143616
A4: Alquiler anual | B4: =+B3*12 -> 1723392
A5: Precio de alquiler | B5: =+DATOS!D21 -> 0.4
A7: RUBRO | B7: AÑOS
A8: Porcentaje de venta | B8: 0 | C8: 1 | D8: 2 | E8: 3 | F8: 4 | G8: 5 | H8: 6 | I8: 7 | J8: 8 | K8: 9 | L8: 10 | M8: 11 | N8: 12 | O8: 13 | P8: 14 | Q8: 15 | R8: 16 | S8: 17 | T8: 18 | U8: 19 | V8: 20
A9: Inversión Inicial | B9: =-DATOS!B29 -> -1045899
A10: Inversión Tiendas Antena | B10: =-DATOS!E72 -> -14062.5
A11: Valor de rescate | V11: =0.2*DATOS!B28 -> 181179.8
A12: Porcentaje de alquiler | C12: =+DATOS!B15 -> 0.7 | D12: =+DATOS!B16 -> 0.75 | E12: =+DATOS!B17 -> 0.8 | F12: =+DATOS!B18 -> 0.9 | G12: =+DATOS!$B$19 -> 1 | H12: =+DATOS!$B$19 -> 1 | I12: =+DATOS!$B$19 -> 1 | J12: =+DATOS!$B$19 -> 1 | K12: =+DATOS!$B$19 -> 1 | L12: =+DATOS!$B$19 -> 1 | M12: =+DATOS!$B$19 -> 1 | N12: =+DATOS!$B$19 -> 1 | ... V12: =+DATOS!$B$19 -> 1
A13: Ingresos | C13: =+$B$4*$B$5*C12 -> 482549.76 | D13: =+$B$4*$B$5*D12 -> 517017.6 | E13: =+$B$4*$B$5*E12 -> 551485.44 | F13: =+$B$4*$B$5*F12 -> 620421.12 | G13: =+$B$4*$B$5*G12 -> 689356.8 | H13: =+$B$4*$B$5*H12 -> 689356.8 | I13: =+$B$4*$B$5*I12 -> 689356.8 | J13: =+$B$4*$B$5*J12 -> 689356.8 | ... V13: =+$B$4*$B$5*V12 -> 689356.8
A14: EGRESOS
A15: =+DATOS!A39 -> Costo de mantenimiento | C15: =+DATOS!$B$39*EVALUACION!$B$4*EVALUACION!C12 -> 60318.72 | D15: =+DATOS!$B$39*EVALUACION!$B$4*EVALUACION!D12 -> 64627.2 | E15: =+DATOS!$B$39*EVALUACION!$B$4*EVALUACION!E12 -> 68935.68 | F15: =+DATOS!$B$39*EVALUACION!$B$4*EVALUACION!F12 -> 77552.64 | G15: =+DATOS!$B$39*EVALUACION!$B$4*EVALUACION!G12 -> 86169.6 | H15: =+DATOS!$B$39*EVALUACION!$B$4*EVALUACION!H12 -> 86169.6 | I15: =+DATOS!$B$39*EVALUACION!$B$4*EVALUACION!I12 -> 86169.6 | J15: =+DATOS!$B$39*EVALUACION!$B$4*EVALUACION!J12 -> 86169.6 | ... V15: =+DATOS!$B$39*EVALUACION!$B$4*EVALUACION!V12 -> 86169.6
A16: UTILIDAD BRUTA | C16: =+C13-C15 -> 422231.04 | D16: =+D13-D15 -> 452390.4 | E16: =+E13-E15 -> 482549.76 | F16: =+F13-F15 -> 542868.48 | G16: =+G13-G15 -> 603187.2 | H16: =+H13-H15 -> 603187.2 | I16: =+I13-I15 -> 603187.2 | J16: =+J13-J15 -> 603187.2 | ... V16: =+V13-V15 -> 603187.2
A17: =+DATOS!A40 -> Gastos de operación | C17: =+DATOS!$B$40*EVALUACION!$B$4+D61 -> 211166.31 | D17: =+DATOS!$B$40*EVALUACION!$B$4+D62 -> 211166.31 | E17: =+DATOS!$B$40*EVALUACION!$B$4+D63 -> 211166.31 | F17: =+DATOS!$B$40*EVALUACION!$B$4+D64 -> 211166.31 | G17: =+DATOS!$B$40*EVALUACION!$B$4+D65 -> 211166.31 | H17: =+DATOS!$B$40*EVALUACION!$B$4+D66 -> 183166.31 | I17: =+DATOS!$B$40*EVALUACION!$B$4+D67 -> 183166.31 | J17: =+DATOS!$B$40*EVALUACION!$B$4+D68 -> 183166.31 | K17: =+DATOS!$B$40*EVALUACION!$B$4+D69 -> 183166.31 | L17: =+DATOS!$B$40*EVALUACION!$B$4+D70 -> 183166.31 | M17: =+DATOS!$B$40*EVALUACION!$B$4+D71 -> 183166.31 | N17: =+DATOS!$B$40*EVALUACION!$B$4+D72 -> 183166.31 | O17: =+DATOS!$B$40*EVALUACION!$B$4+D73 -> 183166.31 | P17: =+DATOS!$B$40*EVALUACION!$B$4+D74 -> 183166.31 | Q17: =+DATOS!$B$40*EVALUACION!$B$4+D75 -> 183166.31 | R17: =+DATOS!$B$40*EVALUACION!$B$4+D76 -> 183166.31 | S17: =+DATOS!$B$40*EVALUACION!$B$4+D77 -> 183166.31 | T17: =+DATOS!$B$40*EVALUACION!$B$4+D78 -> 183166.31 | U17: =+DATOS!$B$40*EVALUACION!$B$4+D79 -> 183166.31 | V17: =+DATOS!$B$40*EVALUACION!$B$4+D80 -> 183166.31
A18: =+DATOS!A41 -> costo de administración | C18: =+$B$4*DATOS!$B$41*EVALUACION!C12 -> 96509.952 | D18: =+$B$4*DATOS!$B$41*EVALUACION!D12 -> 103403.52 | E18: =+$B$4*DATOS!$B$41*EVALUACION!E12 -> 110297.09 | F18: =+$B$4*DATOS!$B$41*EVALUACION!F12 -> 124084.22 | G18: =+$B$4*DATOS!$B$41*EVALUACION!G12 -> 137871.36 | H18: =+$B$4*DATOS!$B$41*EVALUACION!H12 -> 137871.36 | I18: =+$B$4*DATOS!$B$41*EVALUACION!I12 -> 137871.36 | J18: =+$B$4*DATOS!$B$41*EVALUACION!J12 -> 137871.36 | ... V18: =+$B$4*DATOS!$B$41*EVALUACION!V12 -> 137871.36
A19: UTILIDAD OPERATIVA | C19: =+C16-C17-C18 -> 114554.78 | D19: =+D16-D17-D18 -> 137820.57 | E19: =+E16-E17-E18 -> 161086.36 | F19: =+F16-F17-F18 -> 207617.95 | G19: =+G16-G17-G18 -> 254149.53 | H19: =+H16-H17-H18 -> 282149.53 | I19: =+I16-I17-I18 -> 282149.53 | J19: =+J16-J17-J18 -> 282149.53 | ... V19: =+V16-V17-V18 -> 282149.53
A20: Otros ingresos (Tiendas Antena) | C20: =+DATOS!$E$77*EVALUACION!C12 -> 3780 | D20: =+DATOS!$E$77*EVALUACION!D12 -> 4050 | E20: =+DATOS!$E$77*EVALUACION!E12 -> 4320 | F20: =+DATOS!$E$77*EVALUACION!F12 -> 4860 | G20: =+DATOS!$E$77*EVALUACION!G12 -> 5400 | H20: =+DATOS!$E$77*EVALUACION!H12 -> 5400 | I20: =+DATOS!$E$77*EVALUACION!I12 -> 5400 | J20: =+DATOS!$E$77*EVALUACION!J12 -> 5400 | ... V20: =+DATOS!$E$77*EVALUACION!V12 -> 5400
A21: UTILIDAD ANTES DE IMP. E INT. | C21: =+C19+C20 -> 118334.78 | D21: =+D19+D20 -> 141870.57 | E21: =+E19+E20 -> 165406.36 | F21: =+F19+F20 -> 212477.95 | G21: =+G19+G20 -> 259549.53 | H21: =+H19+H20 -> 287549.53 | I21: =+I19+I20 -> 287549.53 | J21: =+J19+J20 -> 287549.53 | ... V21: =+V19+V20 -> 287549.53
A22: Intereses del Préstamo | C22: =+D39 -> 74197.305 | D22: =+D40 -> 70727.593 | E22: =+D41 -> 66910.91 | F22: =+D42 -> 62712.558 | G22: =+D43 -> 58094.372 | H22: =+D44 -> 53014.367 | I22: =+D45 -> 47426.361 | J22: =+D46 -> 41279.554 | K22: =+D47 -> 34518.067 | L22: =+D48 -> 27080.432 | M22: =+D49 -> 18899.032 | N22: =+D50 -> 9899.4931
A23: UTILIDAD ANTES DE IMPUESTOS | C23: =+C21-C22 -> 44137.473 | D23: =+D21-D22 -> 71142.977 | E23: =+E21-E22 -> 98495.452 | F23: =+F21-F22 -> 149765.39 | G23: =+G21-G22 -> 201455.16 | H23: =+H21-H22 -> 234535.16 | I23: =+I21-I22 -> 240123.17 | J23: =+J21-J22 -> 246269.98 | ... V23: =+V21-V22 -> 287549.53
A24: Impuestos | C24: =+IF(C23<=0,0,C23*DATOS!$C$43) -> 13241.242 | D24: =+IF(D23<=0,0,D23*DATOS!$C$43) -> 21342.893 | E24: =+IF(E23<=0,0,E23*DATOS!$C$43) -> 29548.636 | F24: =+IF(F23<=0,0,F23*DATOS!$C$43) -> 44929.616 | G24: =+IF(G23<=0,0,G23*DATOS!$C$43) -> 60436.547 | H24: =+IF(H23<=0,0,H23*DATOS!$C$43) -> 70360.549 | I24: =+IF(I23<=0,0,I23*DATOS!$C$43) -> 72036.951 | J24: =+IF(J23<=0,0,J23*DATOS!$C$43) -> 73880.993 | ... V24: =+IF(V23<=0,0,V23*DATOS!$C$43) -> 86264.859
A25: UTILIDAD NETA | C25: =+C23-C24 -> 30896.231 | D25: =+D23-D24 -> 49800.084 | E25: =+E23-E24 -> 68946.816 | F25: =+F23-F24 -> 104835.77 | G25: =+G23-G24 -> 141018.61 | H25: =+H23-H24 -> 164174.61 | I25: =+I23-I24 -> 168086.22 | J25: =+J23-J24 -> 172388.98 | ... V25: =+V23-V24 -> 201284.67
A26: (+) Depreciación e intangibles | C26: =+D61 -> 73294.95 | D26: =+D62 -> 73294.95 | E26: =+D63 -> 73294.95 | F26: =+D64 -> 73294.95 | G26: =+D65 -> 73294.95 | H26: =+D66 -> 45294.95 | I26: =+D67 -> 45294.95 | J26: =+D68 -> 45294.95 | K26: =+D69 -> 45294.95 | L26: =+D70 -> 45294.95 | M26: =+D71 -> 45294.95 | N26: =+D72 -> 45294.95 | O26: =+D73 -> 45294.95 | P26: =+D74 -> 45294.95 | Q26: =+D75 -> 45294.95 | R26: =+D76 -> 45294.95 | S26: =+D77 -> 45294.95 | T26: =+D78 -> 45294.95 | U26: =+D79 -> 45294.95 | V26: =+D80 -> 45294.95
A27: (-) Amortizaciones Préstamo | C27: =+F39 -> 34697.12 | D27: =+F40 -> 38166.831 | E27: =+F41 -> 41983.515 | F27: =+F42 -> 46181.866 | G27: =+F43 -> 50800.053 | H27: =+F44 -> 55880.058 | I27: =+F45 -> 61468.064 | J27: =+F46 -> 67614.87 | K27: =+F47 -> 74376.357 | L27: =+F48 -> 81813.993 | M27: =+F49 -> 89995.392 | N27: =+F50 -> 98994.931
A28: FLUJO DE CAJA NETO | B28: =+B10+B9 -> -1059961.5 | C28: =+C25+C26-C27 -> 69494.062 | D28: =+D25+D26-D27 -> 84928.202 | E28: =+E25+E26-E27 -> 100258.25 | F28: =+F25+F26-F27 -> 131948.86 | G28: =+G25+G26-G27 -> 163513.51 | H28: =+H25+H26-H27 -> 153589.51 | I28: =+I25+I26-I27 -> 151913.1 | J28: =+J25+J26-J27 -> 150069.06 | ... U28: =+U25+U26-U27 -> 246579.62 | V28: =+V25+V26-V27+V11 -> 427759.42 | W28: =SUM(B28:V28) -> 2677429.7
A30: VALOR PRESENTE NETO | B30: =NPV(B31,C28:V28)+B28 -> 35765.91 | D30: TASA INTERNA DE RETORNO | F30: =IRR(B28:V28) -> 0.12416505
A31: Tasa de Oportunidad | B31: 0.12
H32: =+B28+NPV(B31,C28:V28) -> 35765.91
A33: PRESTAMO A LARGO PLAZO
A34: Inversión | B34: =+DATOS!B29+DATOS!E72 -> 1059961.5
A35: Aporte accionistas | B35: =+B34*F35 -> 317988.45 | D35: Aporte de accionistas (%) | F35: 0.3
A36: PRESTAMO | B36: =+B34-B35 -> 741973.05 | D36: Tasa de interés: | F36: 0.1
A38: AÑO | B38: CAPITAL | C38: CUOTA | D38: INTERES | E38: SALDO | F38: AMORTIZ.
A39: 1 | B39: =+B36 -> 741973.05 | C39: =-PMT($F$36,12,$B$39) -> 108894.42 | D39: =+B36*$F$36 -> 74197.305 | E39: =+B39-(C39-D39) -> 707275.93 | F39: =+B39-E39 -> 34697.12
A40: 2 | B40: =+E39 -> 707275.93 | C40: =-PMT($F$36,12,$B$39) -> 108894.42 | D40: =+B40*$F$36 -> 70727.593 | E40: =+B40-(C40-D40) -> 669109.1 | F40: =+B40-E40 -> 38166.831
A41: 3 | B41: =+E40 -> 669109.1 | C41: =-PMT($F$36,12,$B$39) -> 108894.42 | D41: =+B41*$F$36 -> 66910.91 | E41: =+B41-(C41-D41) -> 627125.58 | F41: =+B41-E41 -> 41983.515
A42: 4 | B42: =+E41 -> 627125.58 | C42: =-PMT($F$36,12,$B$39) -> 108894.42 | D42: =+B42*$F$36 -> 62712.558 | E42: =+B42-(C42-D42) -> 580943.72 | F42: =+B42-E42 -> 46181.866
A43: 5 | B43: =+E42 -> 580943.72 | C43: =-PMT($F$36,12,$B$39) -> 108894.42 | D43: =+B43*$F$36 -> 58094.372 | E43: =+B43-(C43-D43) -> 530143.67 | F43: =+B43-E43 -> 50800.053
A44: 6 | B44: =+E43 -> 530143.67 | C44: =-PMT($F$36,12,$B$39) -> 108894.42 | D44: =+B44*$F$36 -> 53014.367 | E44: =+B44-(C44-D44) -> 474263.61 | F44: =+B44-E44 -> 55880.058
...

Sheet SENSIBILIZACION
A1: ANALISIS DE SENSIBILIDAD
D4: PARAMETRO | F4: PORCENTAJE | H4: FACTOR
A5: Alquiler mensual | B5: =+DATOS!D7 -> 143616 | D5: Disminucion de Ingresos | F5: 0.1 | G5: 1 | H5: =+G5-F5 -> 0.9
A6: Alquiler anual | B6: =+B5*12 -> 1723392 | D6: Incremento de costos | F6: 0.1 | G6: 1 | H6: =+F6+G6 -> 1.1
A7: Precio de alquiler | B7: =+DATOS!D21 -> 0.4
A9: RUBRO | B9: AÑOS
A10: Porcentaje de venta | B10: 0 | C10: 1 | D10: 2 | E10: 3 | F10: 4 | G10: 5 | H10: 6 | I10: 7 | J10: 8 | K10: 9 | L10: 10 | M10: 11 | N10: 12 | O10: 13 | P10: 14 | Q10: 15 | R10: 16 | S10: 17 | T10: 18 | U10: 19 | V10: 20
A11: Inversión Inicial | B11: =-DATOS!B29 -> -1045899
A12: Inversión Tiendas Antena | B12: =+EVALUACION!B10 -> -14062.5
A13: Valor de rescate | V13: =0.2*DATOS!B28 -> 181179.8
A14: Porcentaje de venta | C14: =+EVALUACION!C12 -> 0.7 | D14: =+EVALUACION!D12 -> 0.75 | E14: =+EVALUACION!E12 -> 0.8 | F14: =+EVALUACION!F12 -> 0.9 | G14: =+EVALUACION!G12 -> 1 | H14: =+EVALUACION!H12 -> 1 | I14: =+EVALUACION!I12 -> 1 | J14: =+EVALUACION!J12 -> 1 | ... V14: =+EVALUACION!V12 -> 1
A15: Ingresos | C15: =+$B$6*$B$7*C14*$H$5 -> 434294.78 | D15: =+$B$6*$B$7*D14*$H$5 -> 465315.84 | E15: =+$B$6*$B$7*E14*$H$5 -> 496336.9 | F15: =+$B$6*$B$7*F14*$H$5 -> 558379.01 | G15: =+$B$6*$B$7*G14*$H$5 -> 620421.12 | H15: =+$B$6*$B$7*H14*$H$5 -> 620421.12 | I15: =+$B$6*$B$7*I14*$H$5 -> 620421.12 | J15: =+$B$6*$B$7*J14*$H$5 -> 620421.12 | ... V15: =+$B$6*$B$7*V14*$H$5 -> 620421.12
A16: EGRESOS
A17: Costo de mantenimiento | C17: =+DATOS!$B$39*EVALUACION!$B$4*EVALUACION!C12*$H$6 -> 66350.592 | D17: =+DATOS!$B$39*EVALUACION!$B$4*EVALUACION!D12*$H$6 -> 71089.92 | E17: =+DATOS!$B$39*EVALUACION!$B$4*EVALUACION!E12*$H$6 -> 75829.248 | F17: =+DATOS!$B$39*EVALUACION!$B$4*EVALUACION!F12*$H$6 -> 85307.904 | G17: =+DATOS!$B$39*EVALUACION!$B$4*EVALUACION!G12*$H$6 -> 94786.56 | H17: =+DATOS!$B$39*EVALUACION!$B$4*EVALUACION!H12*$H$6 -> 94786.56 | I17: =+DATOS!$B$39*EVALUACION!$B$4*EVALUACION!I12*$H$6 -> 94786.56 | J17: =+DATOS!$B$39*EVALUACION!$B$4*EVALUACION!J12*$H$6 -> 94786.56 | ... V17: =+DATOS!$B$39*EVALUACION!$B$4*EVALUACION!V12*$H$6 -> 94786.56
A18: UTILIDAD BRUTA | C18: =+C15-C17 -> 367944.19 | D18: =+D15-D17 -> 394225.92 | E18: =+E15-E17 -> 420507.65 | F18: =+F15-F17 -> 473071.1 | G18: =+G15-G17 -> 525634.56 | H18: =+H15-H17 -> 525634.56 | I18: =+I15-I17 -> 525634.56 | J18: =+J15-J17 -> 525634.56 | ... V18: =+V15-V17 -> 525634.56
A19: Gastos de operación | C19: 72862 | D19: =+DATOS!$B$40*EVALUACION!$B$4+D63 -> 211166.31 | E19: =+DATOS!$B$40*EVALUACION!$B$4+D64 -> 211166.31 | F19: =+DATOS!$B$40*EVALUACION!$B$4+D65 -> 211166.31 | G19: =+DATOS!$B$40*EVALUACION!$B$4+D66 -> 211166.31 | H19: =+DATOS!$B$40*EVALUACION!$B$4+D67 -> 183166.31 | I19: =+DATOS!$B$40*EVALUACION!$B$4+D68 -> 183166.31 | J19: =+DATOS!$B$40*EVALUACION!$B$4+D69 -> 183166.31 | K19: =+DATOS!$B$40*EVALUACION!$B$4+D70 -> 183166.31 | L19: =+DATOS!$B$40*EVALUACION!$B$4+D71 -> 183166.31 | M19: =+DATOS!$B$40*EVALUACION!$B$4+D72 -> 183166.31 | N19: =+DATOS!$B$40*EVALUACION!$B$4+D73 -> 183166.31 | O19: =+DATOS!$B$40*EVALUACION!$B$4+D74 -> 183166.31 | P19: =+DATOS!$B$40*EVALUACION!$B$4+D75 -> 183166.31 | Q19: =+DATOS!$B$40*EVALUACION!$B$4+D76 -> 183166.31 | R19: =+DATOS!$B$40*EVALUACION!$B$4+D77 -> 183166.31 | S19: =+DATOS!$B$40*EVALUACION!$B$4+D78 -> 183166.31 | T19: =+DATOS!$B$40*EVALUACION!$B$4+D79 -> 183166.31 | U19: =+DATOS!$B$40*EVALUACION!$B$4+D80 -> 183166.31 | V19: =+DATOS!$B$40*EVALUACION!$B$4+D81 -> 183166.31
A20: costo de administración | C20: =+$B$6*DATOS!$B$41*EVALUACION!C12 -> 96509.952 | D20: =+$B$6*DATOS!$B$41*EVALUACION!D12 -> 103403.52 | E20: =+$B$6*DATOS!$B$41*EVALUACION!E12 -> 110297.09 | F20: =+$B$6*DATOS!$B$41*EVALUACION!F12 -> 124084.22 | G20: =+$B$6*DATOS!$B$41*EVALUACION!G12 -> 137871.36 | H20: =+$B$6*DATOS!$B$41*EVALUACION!H12 -> 137871.36 | I20: =+$B$6*DATOS!$B$41*EVALUACION!I12 -> 137871.36 | J20: =+$B$6*DATOS!$B$41*EVALUACION!J12 -> 137871.36 | ... V20: =+$B$6*DATOS!$B$41*EVALUACION!V12 -> 137871.36
A21: UTILIDAD OPERATIVA | C21: =+C18-C19-C20 -> 198572.24 | D21: =+D18-D19-D20 -> 79656.09 | E21: =+E18-E19-E20 -> 99044.25 | F21: =+F18-F19-F20 -> 137820.57 | G21: =+G18-G19-G20 -> 176596.89 | H21: =+H18-H19-H20 -> 204596.89 | I21: =+I18-I19-I20 -> 204596.89 | J21: =+J18-J19-J20 -> 204596.89 | ... V21: =+V18-V19-V20 -> 204596.89
A22: Otros ingresos (Tiendas Antena) | C22: =+EVALUACION!C20*SENSIBILIZACION!$H$5 -> 3402 | D22: =+EVALUACION!D20*SENSIBILIZACION!$H$5 -> 3645 | E22: =+EVALUACION!E20*SENSIBILIZACION!$H$5 -> 3888 | F22: =+EVALUACION!F20*SENSIBILIZACION!$H$5 -> 4374 | G22: =+EVALUACION!G20*SENSIBILIZACION!$H$5 -> 4860 | H22: =+EVALUACION!H20*SENSIBILIZACION!$H$5 -> 4860 | I22: =+EVALUACION!I20*SENSIBILIZACION!$H$5 -> 4860 | J22: =+EVALUACION!J20*SENSIBILIZACION!$H$5 -> 4860 | ... V22: =+EVALUACION!V20*SENSIBILIZACION!$H$5 -> 4860
A23: UTILIDAD ANTES DE IMP. E INT. | C23: =+C21+C22 -> 201974.24 | D23: =+D21+D22 -> 83301.09 | E23: =+E21+E22 -> 102932.25 | F23: =+F21+F22 -> 142194.57 | G23: =+G21+G22 -> 181456.89 | H23: =+H21+H22 -> 209456.89 | I23: =+I21+I22 -> 209456.89 | J23: =+J21+J22 -> 209456.89 | ... V23: =+V21+V22 -> 209456.89
A24: Intereses del Préstamo | C24: =+D40 -> 74197.305 | D24: =+D41 -> 70727.593 | E24: =+D42 -> 66910.91 | F24: =+D43 -> 62712.558 | G24: =+D44 -> 58094.372 | H24: =+D45 -> 53014.367 | I24: =+D46 -> 47426.361 | J24: =+D47 -> 41279.554 | K24: =+D48 -> 34518.067 | L24: =+D49 -> 27080.432 | M24: =+D50 -> 18899.032 | N24: =+D51 -> 9899.4931
A25: UTILIDAD ANTES DE IMPUESTOS | C25: =+C23-C24 -> 127776.94 | D25: =+D23-D24 -> 12573.497 | E25: =+E23-E24 -> 36021.34 | F25: =+F23-F24 -> 79482.012 | G25: =+G23-G24 -> 123362.52 | H25: =+H23-H24 -> 156442.52 | I25: =+I23-I24 -> 162030.53 | J25: =+J23-J24 -> 168177.34 | ... V25: =+V23-V24 -> 209456.89
A26: Impuestos | C26: =+IF(C25<=0,0,C25*DATOS!$C$43) -> 38333.081 | D26: =+IF(D25<=0,0,D25*DATOS!$C$43) -> 3772.0491 | E26: =+IF(E25<=0,0,E25*DATOS!$C$43) -> 10806.402 | F26: =+IF(F25<=0,0,F25*DATOS!$C$43) -> 23844.603 | G26: =+IF(G25<=0,0,G25*DATOS!$C$43) -> 37008.755 | H26: =+IF(H25<=0,0,H25*DATOS!$C$43) -> 46932.757 | I26: =+IF(I25<=0,0,I25*DATOS!$C$43) -> 48609.159 | J26: =+IF(J25<=0,0,J25*DATOS!$C$43) -> 50453.201 | ... V26: =+IF(V25<=0,0,V25*DATOS!$C$43) -> 62837.067
A27: UTILIDAD NETA | C27: =+C25-C26 -> 89443.855 | D27: =+D25-D26 -> 8801.4479 | E27: =+E25-E26 -> 25214.938 | F27: =+F25-F26 -> 55637.408 | G27: =+G25-G26 -> 86353.763 | H27: =+H25-H26 -> 109509.77 | I27: =+I25-I26 -> 113421.37 | J27: =+J25-J26 -> 117724.13 | ... V27: =+V25-V26 -> 146619.82
A28: (+) Depreciación e intangibles | C28: =+D62 -> 73294.95 | D28: =+D63 -> 73294.95 | E28: =+D64 -> 73294.95 | F28: =+D65 -> 73294.95 | G28: =+D66 -> 73294.95 | H28: =+D67 -> 45294.95 | I28: =+D68 -> 45294.95 | J28: =+D69 -> 45294.95 | K28: =+D70 -> 45294.95 | L28: =+D71 -> 45294.95 | M28: =+D72 -> 45294.95 | N28: =+D73 -> 45294.95 | O28: =+D74 -> 45294.95 | P28: =+D75 -> 45294.95 | Q28: =+D76 -> 45294.95 | R28: =+D77 -> 45294.95 | S28: =+D78 -> 45294.95 | T28: =+D79 -> 45294.95 | U28: =+D80 -> 45294.95 | V28: =+D81 -> 45294.95
A29: (-) Amortizaciones Préstamo | C29: =+F40 -> 34697.12 | D29: =+F41 -> 38166.831 | E29: =+F42 -> 41983.515 | F29: =+F43 -> 46181.866 | G29: =+F44 -> 50800.053 | H29: =+F45 -> 55880.058 | I29: =+F46 -> 61468.064 | J29: =+F47 -> 67614.87 | K29: =+F48 -> 74376.357 | L29: =+F49 -> 81813.993 | M29: =+F50 -> 89995.392 | N29: =+F51 -> 98994.931
A30: FLUJO DE CAJA NETO | B30: =+B11+B12 -> -1059961.5 | C30: =+C27+C28-C29 -> 128041.68 | D30: =+D27+D28-D29 -> 43929.566 | E30: =+E27+E28-E29 -> 56526.373 | F30: =+F27+F28-F29 -> 82750.492 | G30: =+G27+G28-G29 -> 108848.66 | H30: =+H27+H28-H29 -> 98924.658 | I30: =+I27+I28-I29 -> 97248.257 | J30: =+J27+J28-J29 -> 95404.215 | ... U30: =+U27+U28-U29 -> 191914.77 | V30: =+V27+V28-V29+V13 -> 373094.57
A32: VALOR PRESENTE NETO | B32: =NPV(B33,C30:V30)+B30 -> -249316.98 | D32: TASA INTERNA DE RETORNO | F32: =IRR(B30:V30) -> 0.08831475
A33: Tasa de Oportunidad | B33: =+EVALUACION!B31 -> 0.12
A34: PRESTAMO A LARGO PLAZO
A35: Inversión | B35: =+EVALUACION!B34 -> 1059961.5
A36: Aporte accionistas | B36: =+B35*F36 -> 317988.45 | D36: Aporte de accionistas (%) | F36: 0.3
A37: PRESTAMO | B37: =+B35-B36 -> 741973.05 | D37: Tasa de interés: | F37: =+EVALUACION!F36 -> 0.1
A39: AÑO | B39: CAPITAL | C39: CUOTA | D39: INTERES | E39: SALDO | F39: AMORTIZ.
A40: 1 | B40: =+B37 -> 741973.05 | C40: =-PMT($F$37,12,$B$40) -> 108894.42 | D40: =+B37*$F$37 -> 74197.305 | E40: =+B40-(C40-D40) -> 707275.93 | F40: =+B40-E40 -> 34697.12
A41: 2 | B41: =+E40 -> 707275.93 | C41: =-PMT($F$37,12,$B$40) -> 108894.42 | D41: =+B41*$F$37 -> 70727.593 | E41: =+B41-(C41-D41) -> 669109.1 | F41: =+B41-E41 -> 38166.831
A42: 3 | B42: =+E41 -> 669109.1 | C42: =-PMT($F$37,12,$B$40) -> 108894.42 | D42: =+B42*$F$37 -> 66910.91 | E42: =+B42-(C42-D42) -> 627125.58 | F42: =+B42-E42 -> 41983.515
A43: 4 | B43: =+E42 -> 627125.58 | C43: =-PMT($F$37,12,$B$40) -> 108894.42 | D43: =+B43*$F$37 -> 62712.558 | E43: =+B43-(C43-D43) -> 580943.72 | F43: =+B43-E43 -> 46181.866
A44: 5 | B44: =+E43 -> 580943.72 | C44: =-PMT($F$37,12,$B$40) -> 108894.42 | D44: =+B44*$F$37 -> 58094.372 | E44: =+B44-(C44-D44) -> 530143.67 | F44: =+B44-E44 -> 50800.053
A45: 6 | B45: =+E44 -> 530143.67 | C45: =-PMT($F$37,12,$B$40) -> 108894.42 | D45: =+B45*$F$37 -> 53014.367 | E45: =+B45-(C45-D45) -> 474263.61 | F45: =+B45-E45 -> 55880.058
...
